BEGIN:VCALENDAR
VERSION:2.0
PRODID:-//Seat Time Forklift Training - ECPv6.15.20//NONSGML v1.0//EN
CALSCALE:GREGORIAN
METHOD:PUBLISH
X-ORIGINAL-URL:https://seattime.net
X-WR-CALDESC:Events for Seat Time Forklift Training
REFRESH-INTERVAL;VALUE=DURATION:PT1H
X-Robots-Tag:noindex
X-PUBLISHED-TTL:PT1H
BEGIN:VTIMEZONE
TZID:America/New_York
BEGIN:DAYLIGHT
TZOFFSETFROM:-0500
TZOFFSETTO:-0400
TZNAME:EDT
DTSTART:20250309T070000
END:DAYLIGHT
BEGIN:STANDARD
TZOFFSETFROM:-0400
TZOFFSETTO:-0500
TZNAME:EST
DTSTART:20251102T060000
END:STANDARD
BEGIN:DAYLIGHT
TZOFFSETFROM:-0500
TZOFFSETTO:-0400
TZNAME:EDT
DTSTART:20260308T070000
END:DAYLIGHT
BEGIN:STANDARD
TZOFFSETFROM:-0400
TZOFFSETTO:-0500
TZNAME:EST
DTSTART:20261101T060000
END:STANDARD
BEGIN:DAYLIGHT
TZOFFSETFROM:-0500
TZOFFSETTO:-0400
TZNAME:EDT
DTSTART:20270314T070000
END:DAYLIGHT
BEGIN:STANDARD
TZOFFSETFROM:-0400
TZOFFSETTO:-0500
TZNAME:EST
DTSTART:20271107T060000
END:STANDARD
END:VTIMEZONE
BEGIN:VEVENT
DTSTART;TZID=America/New_York:20260103T090000
DTEND;TZID=America/New_York:20260103T170000
DTSTAMP:20260425T070941
CREATED:20260102T142125Z
LAST-MODIFIED:20260102T143132Z
UID:10000017-1767430800-1767459600@seattime.net
SUMMARY:Warehouse Forklift
DESCRIPTION:
URL:https://seattime.net/event/warehouse-forklift/
LOCATION:Georgia
CATEGORIES:Warehouse Forklift
END:VEVENT
BEGIN:VEVENT
DTSTART;TZID=America/New_York:20260107T090000
DTEND;TZID=America/New_York:20260107T160000
DTSTAMP:20260425T070941
CREATED:20260102T144911Z
LAST-MODIFIED:20260102T145044Z
UID:10000024-1767776400-1767801600@seattime.net
SUMMARY:Scissor Lift
DESCRIPTION:
URL:https://seattime.net/event/scissor-lift/
LOCATION:Seat Time\, 390 West Pike Street Suite 219\, Lawrenceville\, Georgia\, 30046\, United States
CATEGORIES:Scissor
END:VEVENT
BEGIN:VEVENT
DTSTART;TZID=America/New_York:20260109T090000
DTEND;TZID=America/New_York:20260109T160000
DTSTAMP:20260425T070941
CREATED:20260102T192955Z
LAST-MODIFIED:20260102T193357Z
UID:10000025-1767949200-1767974400@seattime.net
SUMMARY:All Forklifts - Jan. 9\, 2026
DESCRIPTION:
URL:https://seattime.net/event/all-forklifts-jan-9-2026/
LOCATION:Seat Time\, 390 West Pike Street Suite 219\, Lawrenceville\, Georgia\, 30046\, United States
CATEGORIES:All Forklift Certification
END:VEVENT
BEGIN:VEVENT
DTSTART;TZID=America/New_York:20260116T090000
DTEND;TZID=America/New_York:20260116T170000
DTSTAMP:20260425T070941
CREATED:20260102T144027Z
LAST-MODIFIED:20260102T144142Z
UID:10000022-1768554000-1768582800@seattime.net
SUMMARY:Boom Lift
DESCRIPTION:
URL:https://seattime.net/event/boom-lift-2/
LOCATION:Seat Time\, 390 West Pike Street Suite 219\, Lawrenceville\, Georgia\, 30046\, United States
CATEGORIES:Boom
END:VEVENT
BEGIN:VEVENT
DTSTART;TZID=America/New_York:20260117T090000
DTEND;TZID=America/New_York:20260117T170000
DTSTAMP:20260425T070941
CREATED:20260102T143244Z
LAST-MODIFIED:20260116T143801Z
UID:10000019-1768640400-1768669200@seattime.net
SUMMARY:Warehouse Forklift
DESCRIPTION:
URL:https://seattime.net/event/warehouse-forklift-3/
LOCATION:Seat Time\, 390 West Pike Street Suite 219\, Lawrenceville\, Georgia\, 30046\, United States
CATEGORIES:Warehouse Forklift
END:VEVENT
BEGIN:VEVENT
DTSTART;TZID=America/New_York:20260123T090000
DTEND;TZID=America/New_York:20260123T170000
DTSTAMP:20260425T070941
CREATED:20260102T143551Z
LAST-MODIFIED:20260102T143644Z
UID:10000020-1769158800-1769187600@seattime.net
SUMMARY:Warehouse Forklift
DESCRIPTION:
URL:https://seattime.net/event/warehouse-forklift-4/
LOCATION:Seat Time\, 390 West Pike Street Suite 219\, Lawrenceville\, Georgia\, 30046\, United States
CATEGORIES:Warehouse Forklift
END:VEVENT
BEGIN:VEVENT
DTSTART;TZID=America/New_York:20260124T090000
DTEND;TZID=America/New_York:20260124T160000
DTSTAMP:20260425T070941
CREATED:20260102T144637Z
LAST-MODIFIED:20260102T144749Z
UID:10000023-1769245200-1769270400@seattime.net
SUMMARY:Rough Terrain
DESCRIPTION:
URL:https://seattime.net/event/rough-terrain-2/
LOCATION:Seat Time\, 390 West Pike Street Suite 219\, Lawrenceville\, Georgia\, 30046\, United States
CATEGORIES:Rough Terrain
END:VEVENT
BEGIN:VEVENT
DTSTART;TZID=America/New_York:20260130T090000
DTEND;TZID=America/New_York:20260130T170000
DTSTAMP:20260425T070941
CREATED:20260102T143734Z
LAST-MODIFIED:20260102T143831Z
UID:10000021-1769763600-1769792400@seattime.net
SUMMARY:Warehouse Forklift
DESCRIPTION:
URL:https://seattime.net/event/warehouse-forklift-5/
LOCATION:Seat Time\, 390 West Pike Street Suite 219\, Lawrenceville\, Georgia\, 30046\, United States
CATEGORIES:Warehouse Forklift
END:VEVENT
END:VCALENDAR