BEGIN:VCALENDAR
VERSION:2.0
PRODID:-//Seat Time Forklift Training - ECPv6.15.20//NONSGML v1.0//EN
CALSCALE:GREGORIAN
METHOD:PUBLISH
X-WR-CALNAME:Seat Time Forklift Training
X-ORIGINAL-URL:https://seattime.net
X-WR-CALDESC:Events for Seat Time Forklift Training
REFRESH-INTERVAL;VALUE=DURATION:PT1H
X-Robots-Tag:noindex
X-PUBLISHED-TTL:PT1H
BEGIN:VTIMEZONE
TZID:America/New_York
BEGIN:DAYLIGHT
TZOFFSETFROM:-0500
TZOFFSETTO:-0400
TZNAME:EDT
DTSTART:20250309T070000
END:DAYLIGHT
BEGIN:STANDARD
TZOFFSETFROM:-0400
TZOFFSETTO:-0500
TZNAME:EST
DTSTART:20251102T060000
END:STANDARD
BEGIN:DAYLIGHT
TZOFFSETFROM:-0500
TZOFFSETTO:-0400
TZNAME:EDT
DTSTART:20260308T070000
END:DAYLIGHT
BEGIN:STANDARD
TZOFFSETFROM:-0400
TZOFFSETTO:-0500
TZNAME:EST
DTSTART:20261101T060000
END:STANDARD
BEGIN:DAYLIGHT
TZOFFSETFROM:-0500
TZOFFSETTO:-0400
TZNAME:EDT
DTSTART:20270314T070000
END:DAYLIGHT
BEGIN:STANDARD
TZOFFSETFROM:-0400
TZOFFSETTO:-0500
TZNAME:EST
DTSTART:20271107T060000
END:STANDARD
END:VTIMEZONE
BEGIN:VEVENT
DTSTART;TZID=America/New_York:20260325T090000
DTEND;TZID=America/New_York:20260325T170000
DTSTAMP:20260419T172627
CREATED:20260217T143922Z
LAST-MODIFIED:20260318T163934Z
UID:10000054-1774429200-1774458000@seattime.net
SUMMARY:MEWP Combo - March 25\, 2026
DESCRIPTION:
URL:https://seattime.net/event/mewp-combo-march-25-2026/
LOCATION:Seat Time\, 390 West Pike Street Suite 219\, Lawrenceville\, Georgia\, 30046\, United States
CATEGORIES:Combo Aerial,MEWP Certifications
END:VEVENT
END:VCALENDAR